{
 "currentVersion": 11.4,
 "cimVersion": "3.4.0",
 "serviceDescription": "",
 "mapName": "Map",
 "description": "",
 "copyrightText": "",
 "supportsDynamicLayers": false,
 "layers": [
  {
   "id": 14,
   "name": "Bunos_pastatytos",
   "parentLayerId": -1,
   "defaultVisibility": true,
   "subLayerIds": null,
   "minScale": 0,
   "maxScale": 0,
   "type": "Feature Layer",
   "geometryType": "esriGeometryPolyline",
   "supportsDynamicLegends": true
  },
  {
   "id": 0,
   "name": "VVKD_bujos",
   "parentLayerId": -1,
   "defaultVisibility": true,
   "subLayerIds": null,
   "minScale": 0,
   "maxScale": 0,
   "type": "Feature Layer",
   "geometryType": "esriGeometryPoint",
   "supportsDynamicLegends": true
  },
  {
   "id": 1,
   "name": "Laivakelis",
   "parentLayerId": -1,
   "defaultVisibility": true,
   "subLayerIds": null,
   "minScale": 0,
   "maxScale": 0,
   "type": "Feature Layer",
   "geometryType": "esriGeometryPolyline",
   "supportsDynamicLegends": true
  },
  {
   "id": 2,
   "name": "Pasienio_zona",
   "parentLayerId": -1,
   "defaultVisibility": true,
   "subLayerIds": null,
   "minScale": 0,
   "maxScale": 0,
   "type": "Feature Layer",
   "geometryType": "esriGeometryPolyline",
   "supportsDynamicLegends": true
  },
  {
   "id": 3,
   "name": "Cevni_zenklai",
   "parentLayerId": -1,
   "defaultVisibility": true,
   "subLayerIds": null,
   "minScale": 75931.22546621872,
   "maxScale": 0,
   "type": "Feature Layer",
   "geometryType": "esriGeometryPoint",
   "supportsDynamicLegends": true
  },
  {
   "id": 4,
   "name": "LR_sienos",
   "parentLayerId": -1,
   "defaultVisibility": false,
   "subLayerIds": null,
   "minScale": 0,
   "maxScale": 0,
   "type": "Feature Layer",
   "geometryType": "esriGeometryPolyline",
   "supportsDynamicLegends": true
  },
  {
   "id": 5,
   "name": "Teritorinė jūra",
   "parentLayerId": -1,
   "defaultVisibility": true,
   "subLayerIds": null,
   "minScale": 0,
   "maxScale": 0,
   "type": "Feature Layer",
   "geometryType": "esriGeometryPolygon",
   "supportsDynamicLegends": true
  },
  {
   "id": 6,
   "name": "VSAZ_riba",
   "parentLayerId": -1,
   "defaultVisibility": true,
   "subLayerIds": null,
   "minScale": 0,
   "maxScale": 0,
   "type": "Feature Layer",
   "geometryType": "esriGeometryPolyline",
   "supportsDynamicLegends": true
  },
  {
   "id": 7,
   "name": "VSAZ",
   "parentLayerId": -1,
   "defaultVisibility": true,
   "subLayerIds": null,
   "minScale": 0,
   "maxScale": 0,
   "type": "Feature Layer",
   "geometryType": "esriGeometryPolygon",
   "supportsDynamicLegends": true
  }
 ],
 "tables": [],
 "spatialReference": {
  "wkid": 2600,
  "latestWkid": 3346,
  "xyTolerance": 0.001,
  "zTolerance": 0.001,
  "mTolerance": 0.001,
  "falseX": -5122000,
  "falseY": -10000100,
  "xyUnits": 10000,
  "falseZ": -100000,
  "zUnits": 10000,
  "falseM": -100000,
  "mUnits": 10000
 },
 "singleFusedMapCache": true,
 "tileInfo": {
  "rows": 256,
  "cols": 256,
  "dpi": 96,
  "format": "PNG",
  "compressionQuality": 0,
  "origin": {
   "x": -5122000,
   "y": 10000100
  },
  "spatialReference": {
   "wkid": 2600,
   "latestWkid": 3346,
   "xyTolerance": 0.001,
   "zTolerance": 0.001,
   "mTolerance": 0.001,
   "falseX": -5122000,
   "falseY": -10000100,
   "xyUnits": 10000,
   "falseZ": -100000,
   "zUnits": 10000,
   "falseM": -100000,
   "mUnits": 10000
  },
  "lods": [
   {
    "level": 0,
    "resolution": 1587.5031750063501,
    "scale": 6000000
   },
   {
    "level": 1,
    "resolution": 793.7515875031751,
    "scale": 3000000
   },
   {
    "level": 2,
    "resolution": 529.1677250021168,
    "scale": 2000000
   },
   {
    "level": 3,
    "resolution": 264.5838625010584,
    "scale": 1000000
   },
   {
    "level": 4,
    "resolution": 132.2919312505292,
    "scale": 500000
   },
   {
    "level": 5,
    "resolution": 52.91677250021167,
    "scale": 200000
   },
   {
    "level": 6,
    "resolution": 26.458386250105836,
    "scale": 100000
   },
   {
    "level": 7,
    "resolution": 13.229193125052918,
    "scale": 50000
   },
   {
    "level": 8,
    "resolution": 6.614596562526459,
    "scale": 25000
   },
   {
    "level": 9,
    "resolution": 2.6458386250105836,
    "scale": 10000
   },
   {
    "level": 10,
    "resolution": 1.3229193125052918,
    "scale": 5000
   },
   {
    "level": 11,
    "resolution": 0.5291677250021167,
    "scale": 2000
   },
   {
    "level": 12,
    "resolution": 0.26458386250105836,
    "scale": 1000
   }
  ]
 },
 "storageInfo": {
  "storageFormat": "esriMapCacheStorageModeCompactV2",
  "packetSize": 128
 },
 "initialExtent": {
  "xmin": 325892.88050184154,
  "ymin": 6096595.033256479,
  "xmax": 368762.7796534799,
  "ymax": 6129834.120073853,
  "spatialReference": {
   "wkid": 2600,
   "latestWkid": 3346,
   "xyTolerance": 0.001,
   "zTolerance": 0.001,
   "mTolerance": 0.001,
   "falseX": -5122000,
   "falseY": -10000100,
   "xyUnits": 10000,
   "falseZ": -100000,
   "zUnits": 10000,
   "falseM": -100000,
   "mUnits": 10000
  }
 },
 "fullExtent": {
  "xmin": 280109.0043850003,
  "ymin": 5973233.606101155,
  "xmax": 686340.4334195507,
  "ymax": 6262484.112525103,
  "zmin": -4.019525000000004,
  "zmax": 22.365,
  "mmin": 0,
  "mmax": 0,
  "spatialReference": {
   "wkid": 2600,
   "latestWkid": 3346,
   "xyTolerance": 0.001,
   "zTolerance": 0.001,
   "mTolerance": 0.001,
   "falseX": -5122000,
   "falseY": -10000100,
   "xyUnits": 10000,
   "falseZ": -100000,
   "zUnits": 10000,
   "falseM": -100000,
   "mUnits": 10000
  }
 },
 "datesInUnknownTimezone": false,
 "units": "esriMeters",
 "supportedImageFormatTypes": "PNG32,PNG24,PNG,JPG,DIB,TIFF,EMF,PS,PDF,GIF,SVG,SVGZ,BMP",
 "documentInfo": {
  "Title": "Map",
  "Author": "",
  "Comments": "",
  "Subject": "",
  "Category": "",
  "Version": "3.4.0",
  "AntialiasingMode": "Fast",
  "TextAntialiasingMode": "Force",
  "Keywords": ""
 },
 "supportsQueryDomains": true,
 "supportedQueryFormats": "JSON, geoJSON, PBF",
 "referenceScale": 0.0,
 "datumTransformations": [
  {
   "geoTransforms": [
    {
     "wkid": 1283,
     "latestWkid": 1283,
     "transformForward": false,
     "name": "LKS_1994_To_WGS_1984"
    }
   ]
  },
  {
   "geoTransforms": [
    {
     "wkid": 1283,
     "latestWkid": 1283,
     "transformForward": true,
     "name": "LKS_1994_To_WGS_1984"
    }
   ]
  }
 ],
 "supportsDatumTransformation": true,
 "floorAwareMapProperties": {
  "defaultFloorFilterSettings": {
   "isEnabled": false
  }
 },
 "archivingInfo": {
  "supportsHistoricMoment": false
 },
 "supportsClipping": true,
 "supportsSpatialFilter": true,
 "supportsTimeRelation": true,
 "supportsQueryDataElements": true,
 "mapUnits": {
  "uwkid": 9001
 },
 "maxSelectionCount": 2000,
 "maxRecordCount": 1000,
 "maxImageHeight": 4096,
 "maxImageWidth": 4096,
 "minScale": 1000000.0,
 "maxScale": 1000.0,
 "exportTilesAllowed": false,
 "maxExportTilesCount": 100000,
 "capabilities": "TilesOnly,Tilemap",
 "minLOD": 3,
 "maxLOD": 12,
 "supportedExtensions": "",
 "serviceItemId": "0101821907b64580b218cb903bdaf347"
}
